BEGIN:VCALENDAR
VERSION:2.0
PRODID:-//GrandAngoulême - ECPv6.15.20//NONSGML v1.0//EN
CALSCALE:GREGORIAN
METHOD:PUBLISH
X-ORIGINAL-URL:https://www.grandangouleme.fr
X-WR-CALDESC:Évènements pour GrandAngoulême
REFRESH-INTERVAL;VALUE=DURATION:PT1H
X-Robots-Tag:noindex
X-PUBLISHED-TTL:PT1H
BEGIN:VTIMEZONE
TZID:Europe/Paris
BEGIN:DAYLIGHT
TZOFFSETFROM:+0100
TZOFFSETTO:+0200
TZNAME:CEST
DTSTART:20180325T010000
END:DAYLIGHT
BEGIN:STANDARD
TZOFFSETFROM:+0200
TZOFFSETTO:+0100
TZNAME:CET
DTSTART:20181028T010000
END:STANDARD
BEGIN:DAYLIGHT
TZOFFSETFROM:+0100
TZOFFSETTO:+0200
TZNAME:CEST
DTSTART:20190331T010000
END:DAYLIGHT
BEGIN:STANDARD
TZOFFSETFROM:+0200
TZOFFSETTO:+0100
TZNAME:CET
DTSTART:20191027T010000
END:STANDARD
BEGIN:DAYLIGHT
TZOFFSETFROM:+0100
TZOFFSETTO:+0200
TZNAME:CEST
DTSTART:20200329T010000
END:DAYLIGHT
BEGIN:STANDARD
TZOFFSETFROM:+0200
TZOFFSETTO:+0100
TZNAME:CET
DTSTART:20201025T010000
END:STANDARD
BEGIN:DAYLIGHT
TZOFFSETFROM:+0100
TZOFFSETTO:+0200
TZNAME:CEST
DTSTART:20210328T010000
END:DAYLIGHT
BEGIN:STANDARD
TZOFFSETFROM:+0200
TZOFFSETTO:+0100
TZNAME:CET
DTSTART:20211031T010000
END:STANDARD
END:VTIMEZONE
BEGIN:VEVENT
DTSTART;TZID=Europe/Paris:20201107T103000
DTEND;TZID=Europe/Paris:20201107T110000
DTSTAMP:20260423T150058
CREATED:20201008T215520Z
LAST-MODIFIED:20201107T173733Z
UID:33439-1604745000-1604746800@www.grandangouleme.fr
SUMMARY:ÉVÈNEMENT ANNULÉ : Les Z’écoutilles à la médiathèque
DESCRIPTION:Samedi 7 novembre\, 10h30\, Médiathèque\,  « Les Z’écoutilles »\, chansons et comptines\, gratuit\, ( 05 45 65 34 89 )
URL:https://www.grandangouleme.fr/evenement/les-zecoutilles-a-la-mediatheque-2/
LOCATION:Médiathèque La Médiaporte
CATEGORIES:Agenda Jeunesse,Ruelle-sur-Touvre
ATTACH;FMTTYPE=image/jpeg:https://www.grandangouleme.fr/wp-content/uploads/2019/06/Affiche-Communes-en-fêtes.jpg
END:VEVENT
BEGIN:VEVENT
DTSTART;TZID=Europe/Paris:20201020T100000
DTEND;TZID=Europe/Paris:20201023T110000
DTSTAMP:20260423T150058
CREATED:20201008T214128Z
LAST-MODIFIED:20201020T222458Z
UID:33433-1603188000-1603450800@www.grandangouleme.fr
SUMMARY:Spectacle Ramalabibidibabidibou pour les 0-5 ans
DESCRIPTION:Du 20 au 23 octobre à 10h\, Médiathèque Ramalabibidibabidibou\, pour les 0-5 ans et leurs parents gratuit sur inscription ( 05 45 65 34 89 )
URL:https://www.grandangouleme.fr/evenement/spectacle-ramalabibidibabidibou-pour-les-0-5-ans/
LOCATION:Médiathèque La Médiaporte
CATEGORIES:Agenda Jeunesse,Ruelle-sur-Touvre
ATTACH;FMTTYPE=image/jpeg:https://www.grandangouleme.fr/wp-content/uploads/2020/10/affiche_expo_voir_invisible3.jpg
END:VEVENT
BEGIN:VEVENT
DTSTART;TZID=Europe/Paris:20200402T090000
DTEND;TZID=Europe/Paris:20200404T183000
DTSTAMP:20260423T150058
CREATED:20200312T211358Z
LAST-MODIFIED:20200402T211728Z
UID:28606-1585818000-1586025000@www.grandangouleme.fr
SUMMARY:Le Festival du Livre Jeunesse 2020
DESCRIPTION:Venez découvrir des auteurs/illustrateurs de littérature jeunesse (pour les enfants et adolescents) sur les stands des libraires au Centre culturel et participer à la rencontre d’auteur organisée par la FCOL\, Fédération Charentaises des Œuvres Laïques. \n \n\n\n\nDans le cadre du Festival\, rencontrez Alan Mets à la médiathèque de Ruelle : Samedi 04 avril 2020 à 10h30. \n\n\nLe Festival est organisé par la Ligue de l’Enseignement de la Charente\, mouvement d’Éducation Populaire\, également agréé en tant qu’organisme complémentaire de l’école. \nLa volonté de l’association organisatrice est de fédérer autour de cet événement les médiateurs culturels des domaines de l’animation\, de l’éducation\, du livre et de l’image et le public. \nPour plus d’infos contacter Michel Buisson (Secrétariat général\, affiliations\, pratiques culturelles amateurs\, spectacles vivants…) Coordonnées : 05 45 95 64 04 / assoc.fol16@ac-poitiers.fr
URL:https://www.grandangouleme.fr/evenement/le-festival-du-livre-jeunesse-2020/
LOCATION:Centre culturel -Ruelle-sur-Touvre\, Place Auguste Rouyer
CATEGORIES:Agenda Culturel,Agenda Jeunesse,Ruelle-sur-Touvre
ATTACH;FMTTYPE=image/jpeg:https://www.grandangouleme.fr/wp-content/uploads/2020/03/festival_livre_jeunesse_2020.jpg
END:VEVENT
BEGIN:VEVENT
DTSTART;VALUE=DATE:20200402
DTEND;VALUE=DATE:20200405
DTSTAMP:20260423T150058
CREATED:20200305T211428Z
LAST-MODIFIED:20200311T211344Z
UID:28337-1585785600-1586044799@www.grandangouleme.fr
SUMMARY:Festival du livre Jeunesse de Ruelle
DESCRIPTION:
URL:https://www.grandangouleme.fr/evenement/festival-du-livre-jeunesse-de-ruelle/
LOCATION:Centre culturel -Ruelle-sur-Touvre\, Place Auguste Rouyer
CATEGORIES:Agenda Culturel,Agenda Jeunesse,Ruelle-sur-Touvre
ATTACH;FMTTYPE=image/jpeg:https://www.grandangouleme.fr/wp-content/uploads/2020/03/2001-livret-12p-pog-v3-bd1-1.jpg
END:VEVENT
BEGIN:VEVENT
DTSTART;TZID=Europe/Paris:20200219T140000
DTEND;TZID=Europe/Paris:20200219T163000
DTSTAMP:20260423T150058
CREATED:20200127T195934Z
LAST-MODIFIED:20200219T204732Z
UID:27648-1582120800-1582129800@www.grandangouleme.fr
SUMMARY:Atelier créatif carnaval
DESCRIPTION:Masques et confettis sont au programme !  \n \n\nInfos pratiques : Tout public à partir de 5 ans.\n\n\nGratuit sur inscription 05 45 65 34 89 \n(matériel fourni)
URL:https://www.grandangouleme.fr/evenement/atelier-creatif-carnaval/
LOCATION:Médiathèque La Médiaporte
CATEGORIES:Agenda Culturel,Agenda Jeunesse,Ruelle-sur-Touvre
ATTACH;FMTTYPE=image/jpeg:https://www.grandangouleme.fr/wp-content/uploads/2020/01/1934336.jpg
END:VEVENT
BEGIN:VEVENT
DTSTART;TZID=Europe/Paris:20191207T103000
DTEND;TZID=Europe/Paris:20191207T110000
DTSTAMP:20260423T150058
CREATED:20191203T190414Z
LAST-MODIFIED:20191207T190238Z
UID:25258-1575714600-1575716400@www.grandangouleme.fr
SUMMARY:Les Z’écoutilles à la médiathèque
DESCRIPTION:Oh oh oh ! Retrouvez les Z’écoutilles de la médiathèque à 10h30. Histoires\, comptines et chansons avec Lolita ! \nSans inscription 05 45 65 34 89
URL:https://www.grandangouleme.fr/evenement/les-zecoutilles-a-la-mediatheque/
CATEGORIES:Agenda Culturel,Agenda Jeunesse,Ruelle-sur-Touvre
ATTACH;FMTTYPE=image/jpeg:https://www.grandangouleme.fr/wp-content/uploads/2019/12/pere-noel.jpg
END:VEVENT
BEGIN:VEVENT
DTSTART;TZID=Europe/Paris:20191204T140000
DTEND;TZID=Europe/Paris:20191204T160000
DTSTAMP:20260423T150058
CREATED:20191203T190401Z
LAST-MODIFIED:20191204T190314Z
UID:25253-1575468000-1575475200@www.grandangouleme.fr
SUMMARY:Atelier de Noël à la médiathèque
DESCRIPTION:Pensez à vous inscrire à l’atelier créatif de Noël à la médiathèque. \nDe 14h à 16h\, Marie\, la maman d’Élina\, vous montrera comment réaliser des créations à partir de pommes de pins ! \nInscriptions obligatoires\, places limitées au 05 45 65 34 89
URL:https://www.grandangouleme.fr/evenement/atelier-de-noel-a-la-mediatheque/
CATEGORIES:Agenda Culturel,Agenda Jeunesse,Ruelle-sur-Touvre
ATTACH;FMTTYPE=image/jpeg:https://www.grandangouleme.fr/wp-content/uploads/2019/12/affiche_ruelle_atelierdenoel_mediatheque.jpg
END:VEVENT
BEGIN:VEVENT
DTSTART;TZID=Europe/Paris:20191128T080000
DTEND;TZID=Europe/Paris:20191128T170000
DTSTAMP:20260423T150058
CREATED:20191128T184344Z
LAST-MODIFIED:20191128T184346Z
UID:25049-1574928000-1574960400@www.grandangouleme.fr
SUMMARY:Spectacle de clôture « Une semaine avec… » et « Barberousse\, le voleur d’enfants »
DESCRIPTION:Spectacle interactif jeune public et adultes – Gratuit \n– représentation de clôture d’« Une semaine avec… » par les élèves de l’école Doisneau et les jeunes du Logis de Fissac (théâtre) \n– spectacle « Barberousse le voleur d’enfants » par la Cie Théâtre en action \n\n« Isabelle et son illustrissime et grande troupe de comédiens doivent\, ce jour\, interpréter pour vous l’histoire du terrible Barberousse. Oui\, mais la troupe s’est dispersée et ils ne sont plus que deux… \nAlors qui va jouer le rôle du Dragon ? Et celui de la Bergère ? Et le peuple ? \n\nC’est vous public\, qui allez les tirer d’affaire… Quelques costumes dans nos besaces et en piste ! »
URL:https://www.grandangouleme.fr/evenement/spectacle-de-cloture-une-semaine-avec-et-barberousse-le-voleur-denfants/
CATEGORIES:Agenda Culturel,Agenda Jeunesse,Ruelle-sur-Touvre
ATTACH;FMTTYPE=image/jpeg:https://www.grandangouleme.fr/wp-content/uploads/2019/11/bandeau-une-semaine-avec-1.jpg
END:VEVENT
BEGIN:VEVENT
DTSTART;TZID=Europe/Paris:20190725T103000
DTEND;TZID=Europe/Paris:20190725T113000
DTSTAMP:20260423T150058
CREATED:20190708T185901Z
LAST-MODIFIED:20190725T201724Z
UID:18489-1564050600-1564054200@www.grandangouleme.fr
SUMMARY:Lectures sur l’herbe
DESCRIPTION:
URL:https://www.grandangouleme.fr/evenement/lectures-sur-lherbe-8/
LOCATION:Place Montalembert
CATEGORIES:Agenda Culturel,Agenda Jeunesse,Ruelle-sur-Touvre
ATTACH;FMTTYPE=image/jpeg:https://www.grandangouleme.fr/wp-content/uploads/2019/07/flyers-lecture-enfants-2019.1-3.jpg
END:VEVENT
BEGIN:VEVENT
DTSTART;TZID=Europe/Paris:20190723T103000
DTEND;TZID=Europe/Paris:20190723T113000
DTSTAMP:20260423T150058
CREATED:20190708T185901Z
LAST-MODIFIED:20190723T200224Z
UID:18488-1563877800-1563881400@www.grandangouleme.fr
SUMMARY:Lectures sur l’herbe
DESCRIPTION:
URL:https://www.grandangouleme.fr/evenement/lectures-sur-lherbe-7/
LOCATION:Aire de jeux site de la Porte
CATEGORIES:Agenda Culturel,Agenda Jeunesse,Ruelle-sur-Touvre
ATTACH;FMTTYPE=image/jpeg:https://www.grandangouleme.fr/wp-content/uploads/2019/07/flyers-lecture-enfants-2019.1-3.jpg
END:VEVENT
BEGIN:VEVENT
DTSTART;TZID=Europe/Paris:20190718T103000
DTEND;TZID=Europe/Paris:20190718T113000
DTSTAMP:20260423T150058
CREATED:20190708T185858Z
LAST-MODIFIED:20190718T195846Z
UID:18485-1563445800-1563449400@www.grandangouleme.fr
SUMMARY:Lectures sur l’herbe
DESCRIPTION:
URL:https://www.grandangouleme.fr/evenement/lectures-sur-lherbe-6/
LOCATION:Place Montalembert
CATEGORIES:Agenda Culturel,Agenda Jeunesse,Ruelle-sur-Touvre
ATTACH;FMTTYPE=image/jpeg:https://www.grandangouleme.fr/wp-content/uploads/2019/07/flyers-lecture-enfants-2019.1-3.jpg
END:VEVENT
BEGIN:VEVENT
DTSTART;TZID=Europe/Paris:20190716T103000
DTEND;TZID=Europe/Paris:20190716T113000
DTSTAMP:20260423T150058
CREATED:20190708T185858Z
LAST-MODIFIED:20190716T192828Z
UID:18483-1563273000-1563276600@www.grandangouleme.fr
SUMMARY:Lectures sur l’herbe
DESCRIPTION:
URL:https://www.grandangouleme.fr/evenement/lectures-sur-lherbe-4/
LOCATION:Aire de jeux site de la Porte
CATEGORIES:Agenda Culturel,Agenda Jeunesse,Ruelle-sur-Touvre
ATTACH;FMTTYPE=image/jpeg:https://www.grandangouleme.fr/wp-content/uploads/2019/07/flyers-lecture-enfants-2019.1-3.jpg
END:VEVENT
BEGIN:VEVENT
DTSTART;TZID=Europe/Paris:20190716T103000
DTEND;TZID=Europe/Paris:20190716T113000
DTSTAMP:20260423T150058
CREATED:20190708T185858Z
LAST-MODIFIED:20190708T185858Z
UID:18484-1563273000-1563276600@www.grandangouleme.fr
SUMMARY:Lectures sur l’herbe
DESCRIPTION:
URL:https://www.grandangouleme.fr/evenement/lectures-sur-lherbe-5/
LOCATION:Aire de jeux site de la Porte
CATEGORIES:Agenda Culturel,Agenda Jeunesse,Ruelle-sur-Touvre
ATTACH;FMTTYPE=image/jpeg:https://www.grandangouleme.fr/wp-content/uploads/2019/07/flyers-lecture-enfants-2019.1-3-1.jpg
END:VEVENT
BEGIN:VEVENT
DTSTART;TZID=Europe/Paris:20190711T103000
DTEND;TZID=Europe/Paris:20190711T113000
DTSTAMP:20260423T150058
CREATED:20190708T185858Z
LAST-MODIFIED:20190708T185858Z
UID:18481-1562841000-1562844600@www.grandangouleme.fr
SUMMARY:Lectures sur l’herbe
DESCRIPTION:
URL:https://www.grandangouleme.fr/evenement/lectures-sur-lherbe-2/
LOCATION:Place Montalembert
CATEGORIES:Agenda Culturel,Agenda Jeunesse,Ruelle-sur-Touvre
ATTACH;FMTTYPE=image/jpeg:https://www.grandangouleme.fr/wp-content/uploads/2019/07/flyers-lecture-enfants-2019.1-3-1.jpg
END:VEVENT
BEGIN:VEVENT
DTSTART;TZID=Europe/Paris:20190711T103000
DTEND;TZID=Europe/Paris:20190711T113000
DTSTAMP:20260423T150058
CREATED:20190708T185858Z
LAST-MODIFIED:20190711T190234Z
UID:18482-1562841000-1562844600@www.grandangouleme.fr
SUMMARY:Lectures sur l’herbe
DESCRIPTION:
URL:https://www.grandangouleme.fr/evenement/lectures-sur-lherbe-3/
LOCATION:Place Montalembert
CATEGORIES:Agenda Culturel,Agenda Jeunesse,Ruelle-sur-Touvre
ATTACH;FMTTYPE=image/jpeg:https://www.grandangouleme.fr/wp-content/uploads/2019/07/flyers-lecture-enfants-2019.1-3.jpg
END:VEVENT
BEGIN:VEVENT
DTSTART;TZID=Europe/Paris:20190709T103000
DTEND;TZID=Europe/Paris:20190709T113000
DTSTAMP:20260423T150058
CREATED:20190708T185855Z
LAST-MODIFIED:20190709T190226Z
UID:18477-1562668200-1562671800@www.grandangouleme.fr
SUMMARY:Lectures sur l’herbe
DESCRIPTION:
URL:https://www.grandangouleme.fr/evenement/lectures-sur-lherbe/
LOCATION:Aire de jeux site de la Porte
CATEGORIES:Agenda Culturel,Agenda Jeunesse,Ruelle-sur-Touvre
ATTACH;FMTTYPE=image/jpeg:https://www.grandangouleme.fr/wp-content/uploads/2019/07/flyers-lecture-enfants-2019.1-3.jpg
END:VEVENT
END:VCALENDAR