BEGIN:VCALENDAR
VERSION:2.0
PRODID:-//GrandAngoulême - ECPv6.15.20//NONSGML v1.0//EN
CALSCALE:GREGORIAN
METHOD:PUBLISH
X-ORIGINAL-URL:https://www.grandangouleme.fr
X-WR-CALDESC:Évènements pour GrandAngoulême
REFRESH-INTERVAL;VALUE=DURATION:PT1H
X-Robots-Tag:noindex
X-PUBLISHED-TTL:PT1H
BEGIN:VTIMEZONE
TZID:Europe/Paris
BEGIN:DAYLIGHT
TZOFFSETFROM:+0100
TZOFFSETTO:+0200
TZNAME:CEST
DTSTART:20180325T010000
END:DAYLIGHT
BEGIN:STANDARD
TZOFFSETFROM:+0200
TZOFFSETTO:+0100
TZNAME:CET
DTSTART:20181028T010000
END:STANDARD
BEGIN:DAYLIGHT
TZOFFSETFROM:+0100
TZOFFSETTO:+0200
TZNAME:CEST
DTSTART:20190331T010000
END:DAYLIGHT
BEGIN:STANDARD
TZOFFSETFROM:+0200
TZOFFSETTO:+0100
TZNAME:CET
DTSTART:20191027T010000
END:STANDARD
BEGIN:DAYLIGHT
TZOFFSETFROM:+0100
TZOFFSETTO:+0200
TZNAME:CEST
DTSTART:20200329T010000
END:DAYLIGHT
BEGIN:STANDARD
TZOFFSETFROM:+0200
TZOFFSETTO:+0100
TZNAME:CET
DTSTART:20201025T010000
END:STANDARD
END:VTIMEZONE
BEGIN:VEVENT
DTSTART;TZID=Europe/Paris:20190929T163000
DTEND;TZID=Europe/Paris:20190929T193000
DTSTAMP:20260422T051511
CREATED:20190830T184317Z
LAST-MODIFIED:20190929T200226Z
UID:20964-1569774600-1569785400@www.grandangouleme.fr
SUMMARY:La Main s’Affaire & La compagnie du Grenier au Jardin / Saint-Yirieix-sur-Charente
DESCRIPTION:16h30 • Place des rochers \nALL RIGHT ! – LA MAIN S’AFFAIRE \nIssu des meilleures écoles de cirque d’Europe\, le duo de La Main s’affaire propose un spectacle d’une technicité bluffante avec une mise en scène pleine d’humour. Le public n’aura que peu de répit\, brinquebalé entre l’impression dérangeante d’être « cuisiné » par les deux acrobates et le plaisir de se laisser impressionner et mener par le jeu et les prouesses de ce spectacle. \n  \nwww.lamainsaffaire.com \n  \n  \n18h15 • Parvis de la Mairie \nPRYL\, UN PROPHETE A LA RUE – COMPAGNIE DU GRENIER AU JARDIN \nPryl est dans de beaux draps et de fait vous aussi. Du sang sur les mains\, un cadavre sur les bras\, coincé\, encerclé\, Pryl fait un tour de bocal et cherche des solutions pour nous sortir de là. \n  \nwww.dugrenieraujardin.com \n  \n  \n 
URL:https://www.grandangouleme.fr/evenement/la-main-saffaire-la-compagnie-du-grenier-au-jardin-saint-yirieix-sur-charente/
LOCATION:Place des rochers / Saint-Yrieix-sur-Charente\, place des rochers\, Saint-Yrieix-sur-Charente\, 16710\, France
CATEGORIES:Cirque,Clown,Les soirs bleus
ATTACH;FMTTYPE=image/jpeg:https://www.grandangouleme.fr/wp-content/uploads/2019/06/Affiche-Communes-en-fêtes.jpg
END:VEVENT
BEGIN:VEVENT
DTSTART;TZID=Europe/Paris:20190809T203000
DTEND;TZID=Europe/Paris:20190809T220000
DTSTAMP:20260422T051511
CREATED:20190710T182912Z
LAST-MODIFIED:20190809T181737Z
UID:18571-1565382600-1565388000@www.grandangouleme.fr
SUMMARY:French touch made in Germany – IMMO / Fléac
DESCRIPTION:Immo\, est inclassable\, bien plus qu’un spectacle de cirque\, il propose un cocktail détonnant de jonglage\, de magie et d’acrobaties\, le tout dans la bonne humeur. Artiste allemand installé depuis 20 ans en France\, il nourrit son spectacle des différences culturelles rencontrées en France et en Allemagne. Avec des numéros délirants\, il joue avec les objets typiques\, traditions\, clichés et particularités. Êtes-vous plutôt baguette ou bretzel\, Chopin ou Beethoven\, Peugeot ou Volkswagen ? \n  \nCompagnie El Mundo Costrini\nwww.thecrazymozarts.com\n \n\n\nRestauration chaude et buvette à partir de 19h
URL:https://www.grandangouleme.fr/evenement/french-touch-made-in-germany-immo-fleac/
LOCATION:Fleac / Esplanade de la salle des sports\, Avenue des sports\, Fleac\, 16730\, France
CATEGORIES:Cirque,Clown,Les soirs bleus
ATTACH;FMTTYPE=image/jpeg:https://www.grandangouleme.fr/wp-content/uploads/2019/07/IMGP0955r-c-Ronan-Andro.jpg
END:VEVENT
BEGIN:VEVENT
DTSTART;TZID=Europe/Paris:20190707T160000
DTEND;TZID=Europe/Paris:20190707T170000
DTSTAMP:20260422T051511
CREATED:20190607T003255Z
LAST-MODIFIED:20190707T181737Z
UID:14826-1562515200-1562518800@www.grandangouleme.fr
SUMMARY:Pryl\, un prophète à la rue – Cie du Grenier au Jardin / Marsac
DESCRIPTION:16h • Place de la Mairie • MARSAC \nUn numéro de tir à l’arc qui a mal tourné\, un spectateur mort\, et Pryl\, le clown ensanglanté\, cherchant désespérément une solution pour se sortir de là et se débarrasser de cet encombrant cadavre. Heureusement\, le public est là pour le tirer d’affaire… À partir de cet imbroglio sanguinaire\, la complicité entre le comédien et le spectateur se noue\, se développe dans une délirante communion publique portée par le jeu du comédien\, entre clown et réalisme. \ncie du grenier au jardin\nhttp://dugrenieraujardin.com\n \nMarché de Pays\nBuvette\, restauration sur place le midi  \n 
URL:https://www.grandangouleme.fr/evenement/pryl-un-prophete-a-la-rue-cie-du-grenier-au-jardin-marsac/
LOCATION:Marsac / Place de la mairie\, Place de la mairie\, Marsac\, 16570\, France
CATEGORIES:Clown,Les soirs bleus,Spectacle Musical
ATTACH;FMTTYPE=image/jpeg:https://www.grandangouleme.fr/wp-content/uploads/2019/06/Affiche-Communes-en-fêtes.jpg
ORGANIZER;CN="Marsac":MAILTO:mairie@marsac.fr
END:VEVENT
BEGIN:VEVENT
DTSTART;TZID=Europe/Paris:20190705T180000
DTEND;TZID=Europe/Paris:20190705T210000
DTSTAMP:20260422T051511
CREATED:20190606T115107Z
LAST-MODIFIED:20190705T181731Z
UID:14710-1562349600-1562360400@www.grandangouleme.fr
SUMMARY:Compagnie circolabile & La fiancée du pirate / Linars
DESCRIPTION:18h • Parvis Salle Julien Gimenez •  \nLINARS CLICK\, LE BRUIT DE L’ÂME – SITO CIRCOLABILE \nStoppino\, photographe de renommée\, réalisera un portrait de famille du public. Dans l’ère du selfie\, qui est encore disposé à poser sans avoir le contrôle de sa propre image\, qui accepte de se faire guider et déplacer ? Ce photographe déjanté mettra en scène le public et l’invitera à se défaire de ses préjugés\, ses doutes mais surtout ses certitudes. \nLA FIANCÉE DU PIRATE \nMonter à bord pour danser\, festoyer sur des ritournelles traditionnelles irlandaises.\nCe trio\, vous plonge dans l’univers des docks\, chargé d’embruns de haute mer. \n  \nCie circolabile & La fiancée du pirate\nCircolabile & la fiancée du pirate\n \n  \n  \n  \nÀ 16h\, visite de l’église Saint-Pierre de Linars par le service Pays d’art et d’histoire de GrandAngoulême• RV : place de l’Église. \n  \n \n 
URL:https://www.grandangouleme.fr/evenement/compagnie-circolabile-la-fiancee-du-pirate-linars/
LOCATION:Linars / Salle Julien Gimenez\, Salle Julien Giménez\, Linars\, 16730\, France
CATEGORIES:Clown,Concert,Les soirs bleus
ATTACH;FMTTYPE=image/jpeg:https://www.grandangouleme.fr/wp-content/uploads/2019/06/Click1-1.jpg
END:VEVENT
BEGIN:VEVENT
DTSTART;TZID=Europe/Paris:20190704T203000
DTEND;TZID=Europe/Paris:20190704T220000
DTSTAMP:20260422T051511
CREATED:20190606T115106Z
LAST-MODIFIED:20190704T181727Z
UID:14708-1562272200-1562277600@www.grandangouleme.fr
SUMMARY:French touch made in Germany – IMMO/ Roullet-Saint-Estèphe
DESCRIPTION:Avec ses sandales à chaussettes\, sa choucroute et son nain de jardin\, Immo est aux commandes de ce match culturel serré entre la France et l’Allemagne. Jongleur hors pair\, aussi à l’aise avec les mots qu’avec une tronçonneuse (si\, si)\, l’artiste\, tour à tour magicien ou funambule\, vous fera rire entre deux acrobaties. Immo garde les recettes qui ont fait le succès de ses précédents spectacles : sa générosité\, son humour et son incroyable rapport au public\, associés à ses performances de jonglage\, d’acrobatie ou de mentalisme. \n  \nFrench touch made in Germany/ IMMO\nFacebook : IMMO spectacle\n \n  \n\n 
URL:https://www.grandangouleme.fr/evenement/french-touch-made-in-germany-immo-roullet-saint-estephe/
LOCATION:Roullet-Saint-Estèphe / Eglise de Saint-Estèphe\, Eglise de Saint-Estèphe\, Saint-Estèphe\, 16440\, France
CATEGORIES:Cirque,Clown,Les soirs bleus,Théâtre De Rue
ATTACH;FMTTYPE=image/jpeg:https://www.grandangouleme.fr/wp-content/uploads/2019/06/IMGP0957r-c-Ronan-Andro.jpg
END:VEVENT
BEGIN:VEVENT
DTSTART;TZID=Europe/Paris:20190622T180000
DTEND;TZID=Europe/Paris:20190622T190000
DTSTAMP:20260422T051511
CREATED:20190606T115103Z
LAST-MODIFIED:20190622T171407Z
UID:14700-1561226400-1561230000@www.grandangouleme.fr
SUMMARY:Dans Tous ses états – Mathieu Moustache / L’Isle d’Espagnac
DESCRIPTION:« Bienvenidos al gran espectaculo del Señor Moustache ! » \nLe dernier des dompteurs de public venu tout droit de son Espagne natale vous présente son grand cabaret de « circo\, musica y flamenco » ! Dans tous ses états est un spectacle visuel mêlant jonglage\, contorsion\, théâtre\, poils\, danse et musique en direct. Un spectacle burlesque déjanté et moustachu\, pour toute la famille \nMathieu Moustache\nwww.mathieumoustache.fr \n  \n  \nDans le cadre de l’inauguration des chemins de randonnée de 14h à 17h\nMairie : 05 45 38 62 00 / accueil@mairie-lisledespagnac.fr / www.lisledespagnac.fr \n  \n 
URL:https://www.grandangouleme.fr/evenement/dans-tous-ses-etats-mathieu-moustache-lisle-despagnac/
LOCATION:L’Isle d’Espagnac – Parvis de la mairie\, France
CATEGORIES:Clown,Les soirs bleus,Théâtre De Rue
ATTACH;FMTTYPE=image/jpeg:https://www.grandangouleme.fr/wp-content/uploads/2019/06/DTSE_1.jpg
END:VEVENT
END:VCALENDAR