BEGIN:VCALENDAR
VERSION:2.0
PRODID:-//GrandAngoulême - ECPv6.15.20//NONSGML v1.0//EN
CALSCALE:GREGORIAN
METHOD:PUBLISH
X-ORIGINAL-URL:https://www.grandangouleme.fr
X-WR-CALDESC:Évènements pour GrandAngoulême
REFRESH-INTERVAL;VALUE=DURATION:PT1H
X-Robots-Tag:noindex
X-PUBLISHED-TTL:PT1H
BEGIN:VTIMEZONE
TZID:Europe/Paris
BEGIN:DAYLIGHT
TZOFFSETFROM:+0100
TZOFFSETTO:+0200
TZNAME:CEST
DTSTART:20180325T010000
END:DAYLIGHT
BEGIN:STANDARD
TZOFFSETFROM:+0200
TZOFFSETTO:+0100
TZNAME:CET
DTSTART:20181028T010000
END:STANDARD
BEGIN:DAYLIGHT
TZOFFSETFROM:+0100
TZOFFSETTO:+0200
TZNAME:CEST
DTSTART:20190331T010000
END:DAYLIGHT
BEGIN:STANDARD
TZOFFSETFROM:+0200
TZOFFSETTO:+0100
TZNAME:CET
DTSTART:20191027T010000
END:STANDARD
BEGIN:DAYLIGHT
TZOFFSETFROM:+0100
TZOFFSETTO:+0200
TZNAME:CEST
DTSTART:20200329T010000
END:DAYLIGHT
BEGIN:STANDARD
TZOFFSETFROM:+0200
TZOFFSETTO:+0100
TZNAME:CET
DTSTART:20201025T010000
END:STANDARD
END:VTIMEZONE
BEGIN:VEVENT
DTSTART;VALUE=DATE:20190830
DTEND;VALUE=DATE:20190902
DTSTAMP:20260425T021750
CREATED:20190822T130222Z
LAST-MODIFIED:20190830T230254Z
UID:20577-1567123200-1567382399@www.grandangouleme.fr
SUMMARY:Ce sera mieux demain
DESCRIPTION:Saxifraga\, en partenariat avec la fondation des Tricoles vous propose des spectacles\, des ateliers\, des concerts et des temps de repas pour se rencontrer\, expérimenter\, explorer ensemble les idées qui se construisent aujourd’hui pour un futur désirable. Rendez vous au Jardin vert du vendredi 30 août au dimanche 1er septembre prochain pour un week-end utopiste\, musical\, théâtral et radiophonique !
URL:https://www.grandangouleme.fr/evenement/circuit-des-remparts/
LOCATION:Jardin vert\, Avenue de Président Wilson\, Angoulême\, 16000\, France Métropolitaine
CATEGORIES:Angoulême,Atelier,Circuit Des Remparts,Conférence,GrandAngoulême,Musique,Projection,Spectacle,Vivre Ensemble
ATTACH;FMTTYPE=image/jpeg:https://www.grandangouleme.fr/wp-content/uploads/2019/08/ce-sera-mieux-demain.jpg
ORGANIZER;CN="Saxifraga":MAILTO:saxifraga.asso@gmail.com
END:VEVENT
BEGIN:VEVENT
DTSTART;TZID=Europe/Paris:20190628T180000
DTEND;TZID=Europe/Paris:20190628T180000
DTSTAMP:20260425T021750
CREATED:20190621T001335Z
LAST-MODIFIED:20190628T230320Z
UID:17657-1561744800-1561744800@www.grandangouleme.fr
SUMMARY:Budget participatif
DESCRIPTION:La mairie d’Angoulême organise une réunion d’information pour « comprendre le budget participatif et proposer un projet ». \nVendredi 28 juin à 18h – Hôtel de ville\, Salon de la Tranchade
URL:https://www.grandangouleme.fr/evenement/budget-participatif/
LOCATION:Hôtel de Ville\, 1 place de l'Hôtel de Ville\, Angoulême\, 16000\, France Métropolitaine
CATEGORIES:Angoulême,Conférence,Débat,GrandAngoulême
ATTACH;FMTTYPE=image/jpeg:https://www.grandangouleme.fr/wp-content/uploads/2019/06/budget-participatif-reunion-info.jpg
END:VEVENT
END:VCALENDAR