BEGIN:VCALENDAR
VERSION:2.0
PRODID:-//GrandAngoulême - ECPv6.15.20//NONSGML v1.0//EN
CALSCALE:GREGORIAN
METHOD:PUBLISH
X-ORIGINAL-URL:https://www.grandangouleme.fr
X-WR-CALDESC:Évènements pour GrandAngoulême
REFRESH-INTERVAL;VALUE=DURATION:PT1H
X-Robots-Tag:noindex
X-PUBLISHED-TTL:PT1H
BEGIN:VTIMEZONE
TZID:Europe/Paris
BEGIN:DAYLIGHT
TZOFFSETFROM:+0100
TZOFFSETTO:+0200
TZNAME:CEST
DTSTART:20180325T010000
END:DAYLIGHT
BEGIN:STANDARD
TZOFFSETFROM:+0200
TZOFFSETTO:+0100
TZNAME:CET
DTSTART:20181028T010000
END:STANDARD
BEGIN:DAYLIGHT
TZOFFSETFROM:+0100
TZOFFSETTO:+0200
TZNAME:CEST
DTSTART:20190331T010000
END:DAYLIGHT
BEGIN:STANDARD
TZOFFSETFROM:+0200
TZOFFSETTO:+0100
TZNAME:CET
DTSTART:20191027T010000
END:STANDARD
BEGIN:DAYLIGHT
TZOFFSETFROM:+0100
TZOFFSETTO:+0200
TZNAME:CEST
DTSTART:20200329T010000
END:DAYLIGHT
BEGIN:STANDARD
TZOFFSETFROM:+0200
TZOFFSETTO:+0100
TZNAME:CET
DTSTART:20201025T010000
END:STANDARD
BEGIN:DAYLIGHT
TZOFFSETFROM:+0100
TZOFFSETTO:+0200
TZNAME:CEST
DTSTART:20210328T010000
END:DAYLIGHT
BEGIN:STANDARD
TZOFFSETFROM:+0200
TZOFFSETTO:+0100
TZNAME:CET
DTSTART:20211031T010000
END:STANDARD
BEGIN:DAYLIGHT
TZOFFSETFROM:+0100
TZOFFSETTO:+0200
TZNAME:CEST
DTSTART:20220327T010000
END:DAYLIGHT
BEGIN:STANDARD
TZOFFSETFROM:+0200
TZOFFSETTO:+0100
TZNAME:CET
DTSTART:20221030T010000
END:STANDARD
END:VTIMEZONE
BEGIN:VEVENT
DTSTART;TZID=Europe/Paris:20210119T200000
DTEND;TZID=Europe/Paris:20210119T223000
DTSTAMP:20260425T220430
CREATED:20200310T193303Z
LAST-MODIFIED:20210112T092255Z
UID:28494-1611086400-1611095400@www.grandangouleme.fr
SUMMARY:Irish Celtic // reporté au 8 mars 2022
DESCRIPTION:Communiqué du 17/11/2020 :\nPour des raisons indépendantes de notre volonté\, nous devons reporter la date initialement prévue :\nLE MARDI 19 JANVIER 2021 – 20H00 / ESPACE CARAT\, ANGOULEME\nCette manifestation est effectivement reportée :\nLE MARDI 08  MARS 2022 – 20H00 / ESPACE CARAT\, ANGOULEME\nNous tenons à nous excuser pour la gêne occasionnée. Les billets sont évidemment valables pour la séance reportée.\nSi vous ne pouvez pas être disponible à la date reportée\, merci de revenir vers vos points de ventes initiaux pour procéder au remboursement. \nIrish celtic en images \nEn Irlande\, trois est un nombre magique qui porte chance.\nUn Leprechaun* vous proposera de réaliser trois vœux si vous l’apercevez\, le trèfle irlandais est composé de trois feuilles et maintenant IRISH CELTIC revient avec « LE CHEMIN DES LEGENDES »\, troisième et dernier volet de sa trilogie.\nDans ce nouveau spectacle\, nous retrouvons le charismatique et comique propriétaire irlandais Paddy Flynn et son fils\, Diarmuid. Paddy lance un nouveau défi à Diarmuid. Il doit se lancer à la découverte des lieux qui ont forgé les mythes et légendes de cette sublime île d’émeraude.\nC’est un voyage touchant et émouvant\, riche en histoires poétiques\, danses irlandaises palpitantes et musiques celtiques envoutantes. En route pour « LE CHEMIN DES LEGENDES »… Direction\, l’âme de l’Irlande !  \n*personnage né des légendes irlandaises typique du folklore irlandais à l’occasion de la Saint-Patrick.
URL:https://www.grandangouleme.fr/evenement/irish-celtic-8-avril-2020-reporte-a-une-date-ulterieure/
LOCATION:Espace Carat\, 54 avenue Jean Mermoz\, L'ISLE D'ESPAGNAC\, 16340\, France
CATEGORIES:Espace Carat,Spectacle
ATTACH;FMTTYPE=image/jpeg:https://www.grandangouleme.fr/wp-content/uploads/2020/03/irish2020.jpg
END:VEVENT
BEGIN:VEVENT
DTSTART;TZID=Europe/Paris:20210116T203000
DTEND;TZID=Europe/Paris:20210116T220000
DTSTAMP:20260425T220431
CREATED:20201217T173319Z
LAST-MODIFIED:20210112T092254Z
UID:34714-1610829000-1610834400@www.grandangouleme.fr
SUMMARY:Vincent Moscato // Reporté au 29/10/2021
DESCRIPTION:MOSCATO COMPLETEMENT JOJO : Vincent Moscato emballe le moteur !\nEn irrésistible canaille\, il partage avec vous ses désirs secrets et ses nouveaux succès : il est aussi danseur\, biker\, sauveteur et il fricote à la cour d’Angleterre.\nVincent est un stimulant cardiaque\, il réduit les tensions\, facilite l’oxygénation\, agit contre le stress\, diminue l’agacement\, améliore la circulation sanguine\, muscle les abdos et lifte le visage.
URL:https://www.grandangouleme.fr/evenement/vincent-moscato-reporte-au-29-10-2021/
LOCATION:Espace Carat\, 54 avenue Jean Mermoz\, L'ISLE D'ESPAGNAC\, 16340\, France
CATEGORIES:Espace Carat,Spectacle
ATTACH;FMTTYPE=image/jpeg:https://www.grandangouleme.fr/wp-content/uploads/2020/12/JOJO-Angouleme-40x60.jpg
END:VEVENT
BEGIN:VEVENT
DTSTART;TZID=Europe/Paris:20201206T143000
DTEND;TZID=Europe/Paris:20201206T193000
DTSTAMP:20260425T220431
CREATED:20201106T225203Z
LAST-MODIFIED:20201206T170316Z
UID:34057-1607265000-1607283000@www.grandangouleme.fr
SUMMARY:Cirque de Moscou sur glace // ANNULE
DESCRIPTION:Spectacle annulé en raison de la crise sanitaire
URL:https://www.grandangouleme.fr/evenement/cirque-de-moscou-sur-glace-annule/
LOCATION:Espace Carat\, 54 avenue Jean Mermoz\, L'ISLE D'ESPAGNAC\, 16340\, France
CATEGORIES:Espace Carat,Spectacle
ATTACH;FMTTYPE=image/jpeg:https://www.grandangouleme.fr/wp-content/uploads/2020/11/moscou.jpg
END:VEVENT
BEGIN:VEVENT
DTSTART;TZID=Europe/Paris:20201202T203000
DTEND;TZID=Europe/Paris:20201202T223000
DTSTAMP:20260425T220431
CREATED:20191106T224737Z
LAST-MODIFIED:20201201T235634Z
UID:23962-1606941000-1606948200@www.grandangouleme.fr
SUMMARY:Ballet « Le Casse Noisette » // ANNULE
DESCRIPTION:02/06/2020 : annulation du spectacle prévu le 06/12\nRemboursement des billets auprès de votre billetterie
URL:https://www.grandangouleme.fr/evenement/ballet-le-casse-noisette-6-decembre-2019/
CATEGORIES:Espace Carat,Spectacle
ATTACH;FMTTYPE=image/jpeg:https://www.grandangouleme.fr/wp-content/uploads/2019/11/casse-noisette-site.jpg
END:VEVENT
BEGIN:VEVENT
DTSTART;TZID=Europe/Paris:20201127T200000
DTEND;TZID=Europe/Paris:20201127T220000
DTSTAMP:20260425T220431
CREATED:20201028T174228Z
LAST-MODIFIED:20201126T234237Z
UID:33834-1606507200-1606514400@www.grandangouleme.fr
SUMMARY:Véronic Dicaire // Reporté au 30/11/2021
DESCRIPTION:Les billets pour le spectacle du 27/11/2020 sont valables le 30/11/2021 \nAprès un retour très attendu et des critiques dithyrambiques au Québec\, Véronic DiCaire débarque en Europe avec son Showgirl Tour et de toutes nouvelles voix : Clara Luciani\, Angèle\, Aya Nakamura\, Jain\, Dua Lipa\, Juliette Armanet parmi d’autres surprises…\nEntourée de danseurs et de musiciens\, elle offre à son public des chorégraphies renversantes et une ambiance digne des plus grands concerts. Elle incarne à elle toute seule les plus grandes personnalités du moment\, et restitue leur timbre\, leur gestuelle et leurs mimiques à la perfection…\nD’un battement de cils ou d’un déhanché sexy\, Véronic DiCaire surprend\, entre ambiance rock et solos intimistes. Mise en scène par Josée Fortier\, elle ne se contente pas d’enchaîner les performances\, elle nous touche aussi au plus profond. Derrière l’humour\, l’émotion n’est jamais loin…  \nSon nouveau spectacle Showgirl\, un divertissement haut en couleur dont on ressort bluffé et totalement sous le charme…
URL:https://www.grandangouleme.fr/evenement/veronic-dicaire-reporte-au-30-11-2021/
LOCATION:Espace Carat\, 54 avenue Jean Mermoz\, L'ISLE D'ESPAGNAC\, 16340\, France
CATEGORIES:Espace Carat,Spectacle
ATTACH;FMTTYPE=image/jpeg:https://www.grandangouleme.fr/wp-content/uploads/2020/10/dicaire_site.jpeg
END:VEVENT
BEGIN:VEVENT
DTSTART;TZID=Europe/Paris:20201008T200000
DTEND;TZID=Europe/Paris:20201008T220000
DTSTAMP:20260425T220431
CREATED:20200908T215616Z
LAST-MODIFIED:20201007T225632Z
UID:32911-1602187200-1602194400@www.grandangouleme.fr
SUMMARY:SELLIG // ANNULE
DESCRIPTION:16/09/2020 : spectacle annulé en raison de la crise sanitaire\nBillets remboursables auprès de votre billetterie \nNous vous proposerons une autre date en 2021
URL:https://www.grandangouleme.fr/evenement/sellig-08-octobre-2020/
LOCATION:Espace Carat\, 54 avenue Jean Mermoz\, L'ISLE D'ESPAGNAC\, 16340\, France
CATEGORIES:Espace Carat,Spectacle
ATTACH;FMTTYPE=image/jpeg:https://www.grandangouleme.fr/wp-content/uploads/2020/09/sellig.jpg
END:VEVENT
BEGIN:VEVENT
DTSTART;TZID=Europe/Paris:20200813T210000
DTEND;TZID=Europe/Paris:20200813T223000
DTSTAMP:20260425T220431
CREATED:20200714T103326Z
LAST-MODIFIED:20200813T110004Z
UID:31782-1597352400-1597357800@www.grandangouleme.fr
SUMMARY:A contrebalance Alice
DESCRIPTION:jeudi 13 août à 21 heures • A contrebalance Alice\, cirque aérien\, par la Cie Arts des Airs\n« Comme ce serait drôle de ressortir parmi ces gens qui marchent sur la tête en bas ! Les Antipodistes\, je crois.. » A contrebalance\, Alice emprunte le thème du monde imaginaire à Lewis Caroll. Au coeur du plateau : une structure mobile qui révèle la complicité des trois protagonistes. Chaque mouvement ou déplacement implique la réponse et la réactivité de l’ « autre ». \n[vc_message message_box_style= »solid-icon » style= »square » message_box_color= »juicy_pink »] GRATUIT\, uniquement sur inscription\, dans la limite de places disponibles (jauges en fonction des contenus et des lieux) au 05 45 38 70 77\, du lundi au vendredi de 9h à 12h. \nLes conditions d’accueil vous seront spécifiées lors de votre inscription… mais les gestes barrières seront toujours d’actualité quelque soit le rendez-vous ! [/vc_message]
URL:https://www.grandangouleme.fr/evenement/a-contrebalance-alice/
LOCATION:Menus Petite Enfance | Juillet 2017
CATEGORIES:À ciel ouvert,Angoulême,GrandAngoulême,Spectacle
ATTACH;FMTTYPE=image/jpeg:https://www.grandangouleme.fr/wp-content/uploads/2020/06/affiche.jpg
END:VEVENT
BEGIN:VEVENT
DTSTART;TZID=Europe/Paris:20200730T210000
DTEND;TZID=Europe/Paris:20200730T223000
DTSTAMP:20260425T220431
CREATED:20200630T094815Z
LAST-MODIFIED:20200730T103316Z
UID:31447-1596142800-1596148200@www.grandangouleme.fr
SUMMARY:Un K-Way nommé désir
DESCRIPTION:jeudi 30 juillet à 21 heures • Un K-Way nommé désir\, pantomime en musique\, par la Cie K-Way \nComment rendre extraordinaire l’ordinaire ? Un K-way nommé désir est un spectacle gestuel\, burlesque et musical pour deux acteurs\, un contrebassiste et une mouche. La musique traduit les émotions des personnages muets et les entraîne dans un rock’n’roll endiablé. Le spectacle parle des habitudes et du quotidien avec poésie\, naïveté et humour décalé. \n[vc_message message_box_style= »solid-icon » style= »square » message_box_color= »juicy_pink »] GRATUIT\, uniquement sur inscription\, dans la limite de places disponibles (jauges en fonction des contenus et des lieux) au 05 45 38 70 77\, du lundi au vendredi de 9h à 12h. \nLes conditions d’accueil vous seront spécifiées lors de votre inscription… mais les gestes barrières seront toujours d’actualité quelque soit le rendez-vous ! [/vc_message]
URL:https://www.grandangouleme.fr/evenement/un-k-way-nomme-desir/
LOCATION:Menus Petite Enfance | Juillet 2017
CATEGORIES:À ciel ouvert,Angoulême,GrandAngoulême,Spectacle
ATTACH;FMTTYPE=image/jpeg:https://www.grandangouleme.fr/wp-content/uploads/2020/06/affiche.jpg
END:VEVENT
BEGIN:VEVENT
DTSTART;TZID=Europe/Paris:20200716T210000
DTEND;TZID=Europe/Paris:20200716T223000
DTSTAMP:20260425T220431
CREATED:20200623T091724Z
LAST-MODIFIED:20200716T103312Z
UID:31257-1594933200-1594938600@www.grandangouleme.fr
SUMMARY:Hamlet Crazy Road
DESCRIPTION:jeudi 16 juillet à 21 heures • Hamlet Crazy Road\, théâtre burlesque\, par la Cie Les Barbus\nUn homme seul au volant de son caddie\, pas un SDF mais un SD comme il le revendique\, s’installe… La rue est son domicile modulable et il nous invite à y entrer. Des nomades\, ils sont des centaines à peupler nos espaces urbains\, transparents\, donc invisibles à nos yeux. Leur parole est muette à nos oreilles. Chacun d’entre eux est sans domicile fixe et souvent rempli d’aventures exubérantes. La sienne est une monstrueuse histoire d’amour. Sa princesse s’appelle Ophélie comme dans une tragédie de Shakespeare. \n[vc_message message_box_style= »solid-icon » style= »square » message_box_color= »juicy_pink »] \nGRATUIT\, uniquement sur inscription\, dans la limite de places disponibles (jauges en fonction des contenus et des lieux) au 05 45 38 70 77\, du lundi au vendredi de 9h à 12h. \nLes conditions d’accueil vous seront spécifiées lors de votre inscription… mais les gestes barrières seront toujours d’actualité quelque soit le rendez-vous ! \n[/vc_message]
URL:https://www.grandangouleme.fr/evenement/hamlet-crazy-road/
LOCATION:Angoulême / Jardin Vert\, Jardin vert\, Angoulême\, 16000\, France
CATEGORIES:À ciel ouvert,Angoulême,GrandAngoulême,Spectacle
ATTACH;FMTTYPE=image/jpeg:https://www.grandangouleme.fr/wp-content/uploads/2020/06/affiche.jpg
END:VEVENT
BEGIN:VEVENT
DTSTART;TZID=Europe/Paris:20200530T200000
DTEND;TZID=Europe/Paris:20200530T223000
DTSTAMP:20260425T220431
CREATED:20200430T184728Z
LAST-MODIFIED:20200516T191832Z
UID:29692-1590868800-1590877800@www.grandangouleme.fr
SUMMARY:La Bajon // ANNULE
DESCRIPTION:Remboursement des billets auprès de votre billetterie
URL:https://www.grandangouleme.fr/evenement/la-bajon-30-mai-2020/
LOCATION:Espace Carat\, 54 avenue Jean Mermoz\, L'ISLE D'ESPAGNAC\, 16340\, France
CATEGORIES:Espace Carat,Spectacle
ATTACH;FMTTYPE=image/jpeg:https://www.grandangouleme.fr/wp-content/uploads/2020/04/labajon.jpg
END:VEVENT
BEGIN:VEVENT
DTSTART;TZID=Europe/Paris:20200307T200000
DTEND;TZID=Europe/Paris:20200307T223000
DTSTAMP:20260425T220431
CREATED:20200206T180238Z
LAST-MODIFIED:20200307T191741Z
UID:27761-1583611200-1583620200@www.grandangouleme.fr
SUMMARY:Artus « Duels à Davidejonatown » // 7 mars 2020
DESCRIPTION:ARTUS présente son NOUVEAU SPECTACLE en tournée dans toute la France\nDuels à Davidéjonatown\nUn western complètement à l’ouest\nRetrouvez l’humour déjanté et piquant d’Artus dans son nouveau spectacle : Duels à Davidéjonatown\nArtus\, Cow-boy malicieux\, provoque en duels ses adversaires pour un Western explosif\, loufoque\, et surtout drôlissime !\nEntre complots\, ruses\, farces et espiègleries\, tous les coups sont permis pour gagner …\nQui deviendra le nouveau Shérif de Davidéjonatown ?\nARTUS nous ouvre les portes de son saloon burlesque dans un univers plus hilarant que jamais\nDuels à Davidéjonatown débarque enfin dans toute la France après son triomphe à Paris \nÉcrit et mis en scène par : Artus\nDistribution : Artus\, Greg Romano\, Sébastien Chartier\, Julien Schmidt et Céline Groussard
URL:https://www.grandangouleme.fr/evenement/artus-duels-a-davidejonatown-7-mars-2020/
LOCATION:Espace Carat\, 54 avenue Jean Mermoz\, L'ISLE D'ESPAGNAC\, 16340\, France
CATEGORIES:Espace Carat,Spectacle
ATTACH;FMTTYPE=image/jpeg:https://www.grandangouleme.fr/wp-content/uploads/2020/02/ARTUS.jpg
END:VEVENT
BEGIN:VEVENT
DTSTART;TZID=Europe/Paris:20200222T200000
DTEND;TZID=Europe/Paris:20200222T200000
DTSTAMP:20260425T220431
CREATED:20200123T173249Z
LAST-MODIFIED:20200222T183304Z
UID:27588-1582401600-1582401600@www.grandangouleme.fr
SUMMARY:Roland Magdane // 22 février 2020
DESCRIPTION:Encore plus FOU ! Encore plus DEJANTE !\n90 MINUTES D’ECLATS DE RIRE NON STOP !\nOù vous retrouverez … Tous les personnages que vous avez aimés dans les précédents spectacles …\nDe NOUVELLES LETTRES avec PEPE et MEME …plus déchaînés que jamais !\nNOUVELLES SITUATIONS de la VIE DE TOUS LES JOURS passées sous le microscope de Roland Magdane…\nET TOUJOURS L’HOMME ET LA FEMME VUS PAR ROLAND MAGDANE\nDans son NOUVEAU SPECTACLE vous rirez de voir Roland Magdane se débattre avec sa FAMILLE et avec sa femme ! Et plus vous rirez en le regardant se débattre dans sa vie\, plus VOUS RIREZ DE VOTRE PROPRE VIE !\nl’art de Roland Magdane c’est d’observer ce qui nous entoure et ce que nous vivons tous les jours pour en faire un NOUVEAU SPECTACLE totalement « DEJANTE »
URL:https://www.grandangouleme.fr/evenement/roland-magdane-22-fevrier-2020/
CATEGORIES:Espace Carat,Spectacle
ATTACH;FMTTYPE=image/jpeg:https://www.grandangouleme.fr/wp-content/uploads/2020/01/magdane_site.jpg
END:VEVENT
BEGIN:VEVENT
DTSTART;TZID=Europe/Paris:20200211T200000
DTEND;TZID=Europe/Paris:20200211T230000
DTSTAMP:20260425T220431
CREATED:20200112T171734Z
LAST-MODIFIED:20200211T181758Z
UID:27042-1581451200-1581462000@www.grandangouleme.fr
SUMMARY:Ballet Le Lac des Cygnes // 11 février 2020
DESCRIPTION:LE LAC DES CYGNES\nBallet classique en deux actes et 4 tableaux \nMusique :Piotr Tchaïkovski\nChorégraphie : Marius Petipa  \nLe Lac des cygnes a été présenté la première fois à Moscou en 1877. \nL’histoire d’amour du prince pour une jeune fille\, transformée en cygne par un sorcier\, est un sujet fantastique où la danseuse principale a un double personnage à jouer et à danser – Odette\, cygne blanc\, lyrique et poétique\, Odile\, cygne noir\, maléfique et fatal.\nC’est l’école russe de danse classique\, l’école d’excellence de Saint-Pétersbourg\, que les spectateurs pourront voir sur scène. Les danseurs ont été formés dans les meilleures écoles de ballet de Russie d’après la méthode Vaganova de Saint-Pétersbourg.\nLe Lac des cygnes fait partie des ballets les plus connus au monde et le plus joué dans les théâtres.\nLa musique de Piotr Tchaïkovski transporte le spectateur dans un univers poétique\, un univers de grâce\, d’élégance et de beauté infinie.\nLa splendeur des décors et des costumes\, l’orchestre live\, l’esthétique et la poésie de la danse classique \,interprétée avec brio et élégance par les danseurs russes\, font de ce spectacle un vrai joyau pour toute la famille !
URL:https://www.grandangouleme.fr/evenement/ballet-le-lac-des-cygnes-11-fevrier-2020/
LOCATION:Espace Carat\, 54 avenue Jean Mermoz\, L'ISLE D'ESPAGNAC\, 16340\, France
CATEGORIES:Espace Carat,Spectacle
ATTACH;FMTTYPE=image/jpeg:https://www.grandangouleme.fr/wp-content/uploads/2020/01/LAC-DES-CYGNES.jpg
END:VEVENT
BEGIN:VEVENT
DTSTART;TZID=Europe/Paris:20200201T200000
DTEND;TZID=Europe/Paris:20200201T230000
DTSTAMP:20260425T220431
CREATED:20200102T234839Z
LAST-MODIFIED:20200201T180232Z
UID:26604-1580587200-1580598000@www.grandangouleme.fr
SUMMARY:Dani Lary // 1er février 2020
DESCRIPTION:DECOUVREZ TIC TAC OU LE VOYAGE ULTIME DANS LE TEMPS ET DANS L’ILLUSION … \nFaiseur de rêves et magicien de la démesure\,\nDANI LARY revient pour un show familial exceptionnel !\nDécouvrez le Roi de la Magie et ses plus grandes créations\,\nLaissez-vous bercer par l’impossible…  Une chose est sûre\, vous en redemanderez !  \nLe saviez-vous ?\nIl devient le premier magicien à ouvrir la porte des zéniths en France\nPendant 20 ans\, il est le créateur du final de l’émission le plus grand Cabaret du monde présenté par Patrick Sébastien\, sur France 2. Plus de 400 numéros créés !\nIl a créé des tours bluffant et gigantesque pour des artistes d’exception\,\nJohnny Hallyday\, Kamel Ouali\, Philippe Candeloro\, Patrick Sébastien et beaucoup d’autres.
URL:https://www.grandangouleme.fr/evenement/dani-lary-1er-fevrier-2020/
LOCATION:Espace Carat\, 54 avenue Jean Mermoz\, L'ISLE D'ESPAGNAC\, 16340\, France
CATEGORIES:Espace Carat,Spectacle
ATTACH;FMTTYPE=image/jpeg:https://www.grandangouleme.fr/wp-content/uploads/2020/01/dani-site.jpg
END:VEVENT
BEGIN:VEVENT
DTSTART;TZID=Europe/Paris:20200131T203000
DTEND;TZID=Europe/Paris:20200131T223000
DTSTAMP:20260425T220431
CREATED:20200101T234809Z
LAST-MODIFIED:20200131T180229Z
UID:26567-1580502600-1580509800@www.grandangouleme.fr
SUMMARY:Les Chevaliers du Fiel // 31 janvier 2020
DESCRIPTION:Les chevaliers du fiel dans leur nouveau spectacle Camping-Car For Ever ! \nAprès Croisière d’enfer et Noël d’enfer Monsieur et Madame Lambert achètent enfin un camping-car et se lancent dans l’aventure …\nEt quelle aventure ! Ou va t-on dormir ce soir ? Combien va-t-on consommer de carburant dans les côtes et de rosé à l’arrêt ?\nAprès la croisière et le noël\, les deux must de l’humour en France de ces dernières années\, les Chevaliers du Fiel vous embarquent dans la saga du camping-car …fou rire For Ever garanti. \nEcrit par Eric Carrière\nAvec Eric Carrière et Francis Ginibre
URL:https://www.grandangouleme.fr/evenement/les-chevaliers-du-fiel-31-janvier-2020/
LOCATION:Espace Carat\, 54 avenue Jean Mermoz\, L'ISLE D'ESPAGNAC\, 16340\, France
CATEGORIES:Espace Carat,Spectacle
ATTACH;FMTTYPE=image/jpeg:https://www.grandangouleme.fr/wp-content/uploads/2020/01/CDF_site.jpeg
END:VEVENT
BEGIN:VEVENT
DTSTART;VALUE=DATE:20190830
DTEND;VALUE=DATE:20190902
DTSTAMP:20260425T220431
CREATED:20190822T130222Z
LAST-MODIFIED:20190830T230254Z
UID:20577-1567123200-1567382399@www.grandangouleme.fr
SUMMARY:Ce sera mieux demain
DESCRIPTION:Saxifraga\, en partenariat avec la fondation des Tricoles vous propose des spectacles\, des ateliers\, des concerts et des temps de repas pour se rencontrer\, expérimenter\, explorer ensemble les idées qui se construisent aujourd’hui pour un futur désirable. Rendez vous au Jardin vert du vendredi 30 août au dimanche 1er septembre prochain pour un week-end utopiste\, musical\, théâtral et radiophonique !
URL:https://www.grandangouleme.fr/evenement/circuit-des-remparts/
LOCATION:Jardin vert\, Avenue de Président Wilson\, Angoulême\, 16000\, France Métropolitaine
CATEGORIES:Angoulême,Atelier,Circuit Des Remparts,Conférence,GrandAngoulême,Musique,Projection,Spectacle,Vivre Ensemble
ATTACH;FMTTYPE=image/jpeg:https://www.grandangouleme.fr/wp-content/uploads/2019/08/ce-sera-mieux-demain.jpg
ORGANIZER;CN="Saxifraga":MAILTO:saxifraga.asso@gmail.com
END:VEVENT
BEGIN:VEVENT
DTSTART;TZID=Europe/Paris:20190828T160000
DTEND;TZID=Europe/Paris:20190828T190000
DTSTAMP:20260425T220431
CREATED:20190729T001724Z
LAST-MODIFIED:20190828T234722Z
UID:19392-1567008000-1567018800@www.grandangouleme.fr
SUMMARY:Inauguration du Tunnel de la Gâtine
DESCRIPTION:Il y a un an\, le tunnel de la Gâtine fermait pour une rénovation complète qui lui permet aujourd’hui de respecter les dernières normes de sécurité. \nLa circulation reprendra la première semaine de septembre et pour fêter cela\, la ville organise une inauguration le mercredi 28 août 2019 de 16h à 19h pour découvrir le tunnel différemment avant que les voitures ne reprennent leurs droits. \nAu programme : spectacle\, animations\, exposition\, food-truck…
URL:https://www.grandangouleme.fr/evenement/inauguration-du-tunnel-de-la-gatine/
LOCATION:Tunnel de la Gâtine\, Voie de l'Europe\, Angoulême\, 16000\, France Métropolitaine
CATEGORIES:Angoulême,GrandAngoulême,Inauguration,Spectacle
ATTACH;FMTTYPE=image/jpeg:https://www.grandangouleme.fr/wp-content/uploads/2019/07/inauguration-tunnel-gatine.jpg
END:VEVENT
BEGIN:VEVENT
DTSTART;TZID=Europe/Paris:20190628T193000
DTEND;TZID=Europe/Paris:20190628T230000
DTSTAMP:20260425T220431
CREATED:20190607T100232Z
LAST-MODIFIED:20190628T181725Z
UID:14913-1561750200-1561762800@www.grandangouleme.fr
SUMMARY:Gala des Ecoles de Danse // 28 juin 2019
DESCRIPTION:Rendez vous annuel des écoles de danse pour un spectacle haut en couleurs.
URL:https://www.grandangouleme.fr/evenement/gala-des-ecoles-de-danse-28-juin-2019/
LOCATION:Espace Carat\, 54 avenue Jean Mermoz\, L'ISLE D'ESPAGNAC\, 16340\, France
CATEGORIES:Espace Carat,Spectacle
ATTACH;FMTTYPE=image/jpeg:https://www.grandangouleme.fr/wp-content/uploads/2019/06/gala-danse.jpg
ORGANIZER;CN="Comit%C3%A9 des F%C3%AAtes Angoul%C3%AAme":MAILTO:gerard.france@free.fr
END:VEVENT
END:VCALENDAR