BEGIN:VCALENDAR
VERSION:2.0
PRODID:-//GrandAngoulême - ECPv6.15.20//NONSGML v1.0//EN
CALSCALE:GREGORIAN
METHOD:PUBLISH
X-ORIGINAL-URL:https://www.grandangouleme.fr
X-WR-CALDESC:Évènements pour GrandAngoulême
REFRESH-INTERVAL;VALUE=DURATION:PT1H
X-Robots-Tag:noindex
X-PUBLISHED-TTL:PT1H
BEGIN:VTIMEZONE
TZID:Europe/Paris
BEGIN:DAYLIGHT
TZOFFSETFROM:+0100
TZOFFSETTO:+0200
TZNAME:CEST
DTSTART:20180325T010000
END:DAYLIGHT
BEGIN:STANDARD
TZOFFSETFROM:+0200
TZOFFSETTO:+0100
TZNAME:CET
DTSTART:20181028T010000
END:STANDARD
BEGIN:DAYLIGHT
TZOFFSETFROM:+0100
TZOFFSETTO:+0200
TZNAME:CEST
DTSTART:20190331T010000
END:DAYLIGHT
BEGIN:STANDARD
TZOFFSETFROM:+0200
TZOFFSETTO:+0100
TZNAME:CET
DTSTART:20191027T010000
END:STANDARD
BEGIN:DAYLIGHT
TZOFFSETFROM:+0100
TZOFFSETTO:+0200
TZNAME:CEST
DTSTART:20200329T010000
END:DAYLIGHT
BEGIN:STANDARD
TZOFFSETFROM:+0200
TZOFFSETTO:+0100
TZNAME:CET
DTSTART:20201025T010000
END:STANDARD
END:VTIMEZONE
BEGIN:VEVENT
DTSTART;VALUE=DATE:20190929
DTEND;VALUE=DATE:20190930
DTSTAMP:20260425T234057
CREATED:20190830T183228Z
LAST-MODIFIED:20190929T200225Z
UID:20961-1569715200-1569801599@www.grandangouleme.fr
SUMMARY:Tout tes permis – Cie C’est pas permis / Vindelle
DESCRIPTION:A 11h et 15h30 – Salle des Fins Bois \nC’est l’histoire d’un drôle de bonhomme nous racontant ses rêves d’enfants qu’il essaye maintenant adulte de concrétiser. Il nous entraîne dans son univers et nous fait voyager\, tout au long de son parcours il aura besoin de votre aide pour se construire peu à peu : avoir la maison de ses rêves\, pouvoir se déplacer librement… tout devient plus facile en collectif. \nUn spectacle de cirque rempli d’émotions et d’humour ! \nCOMPAGNIE C’EST PAS PERMIS \ncestpaspermis.wordpress.com \n  \nDans le cadre du Marché de pays sur le thème des vignes\,\nVendange à l’ancienne à 9h\, stand de produits locaux\,\nBuvette et restauration sur place.
URL:https://www.grandangouleme.fr/evenement/tout-tes-permis-cie-cest-pas-permis-vindelle/
LOCATION:Vindelle / Salle des Fins Bois\, Rue de la Gerbaude\, Vindelle\, 16430\, France
CATEGORIES:Cirque,Les soirs bleus,Théâtre De Rue
ATTACH;FMTTYPE=image/jpeg:https://www.grandangouleme.fr/wp-content/uploads/2019/08/Tout_Tes_Permis.jpg
ORGANIZER;CN="Vindelle":MAILTO:gilbert.eymond@orange.fr
END:VEVENT
BEGIN:VEVENT
DTSTART;TZID=Europe/Paris:20190725T210000
DTEND;TZID=Europe/Paris:20190725T230000
DTSTAMP:20260425T234057
CREATED:20190626T181438Z
LAST-MODIFIED:20190725T181822Z
UID:17893-1564088400-1564095600@www.grandangouleme.fr
SUMMARY:Barbe Bleue\, assez bien raconté(e) – Caus’toujours / Angoulême
DESCRIPTION:21h • Jardin vert • ANGOULÊME \nTristan Faucher\, conteur et fervent défenseur de la tradition populaire\, voudrait faire partager sa passion et sa connaissance du conte traditionnel en racontant les célèbres histoires de Charles Perrault. Seulement voilà ! Trop soucieux d’expliquer sa démarche artistique et d’apporter les éléments indispensables à la compréhension de l’histoire\, il s’interrompt sans cesse. Il s’enferre dans des explications indigentes\, des commentaires assez peu pertinents. De digressions en digressions\, l’histoire de Barbe bleue peine à exister. Incapable d’une quelconque remise en cause\, aigri de ne pas être reconnu à la hauteur de son talent\, il fait fi des codes et conventions du spectacle vivant et laisse deviner ses propres désillusions. \n  \n\nDans le cadre des « Jeudi Jeux de Rue de l’été ».\nEntrée par la Cathédrale ou par Guez de Balzac.
URL:https://www.grandangouleme.fr/evenement/barbe-bleue-assez-bien-racontee-caustoujours-angouleme/
LOCATION:Angoulême / Jardin Vert\, Jardin vert\, Angoulême\, 16000\, France
CATEGORIES:Les soirs bleus,Théâtre De Rue
ATTACH;FMTTYPE=image/jpeg:https://www.grandangouleme.fr/wp-content/uploads/2019/06/Affiche-Communes-en-fêtes.jpg
END:VEVENT
BEGIN:VEVENT
DTSTART;TZID=Europe/Paris:20190717T203000
DTEND;TZID=Europe/Paris:20190717T213000
DTSTAMP:20260425T234057
CREATED:20190617T001410Z
LAST-MODIFIED:20190717T181727Z
UID:16867-1563395400-1563399000@www.grandangouleme.fr
SUMMARY:Ombre d’elles – Compagnie Mauvais coton / Soyaux
DESCRIPTION:20h30 • Place J. Giraudoux • SOYAUX OMBRE D’ELLES \nCOMPAGNIE MAUVAIS COTON CIRQUE \nLa Compagnie Mauvais Coton s’inscrit dans la mouvance d’un cirque actuel : le mélange des arts et des personnes. Elle présente son spectacle Ombre d’Elles\, rencontre entre deux fildeféristes. \n  \nMauvais coton\nmauvaiscoton.com \n  \n  \n  \nDans le cadre de Soyaux l’été
URL:https://www.grandangouleme.fr/evenement/ombre-delles-compagnie-mauvais-coton-soyaux/
LOCATION:Place J.Giraudoux / Soyaux\, Place Jean Giraudoux\, Soyaux\, 16800\, France
CATEGORIES:Cirque,Les soirs bleus,Spectacle Musical,Théâtre De Rue
ATTACH;FMTTYPE=image/jpeg:https://www.grandangouleme.fr/wp-content/uploads/2019/06/Affiche-Communes-en-fêtes.jpg
END:VEVENT
BEGIN:VEVENT
DTSTART;TZID=Europe/Paris:20190704T203000
DTEND;TZID=Europe/Paris:20190704T220000
DTSTAMP:20260425T234057
CREATED:20190606T115106Z
LAST-MODIFIED:20190704T181727Z
UID:14708-1562272200-1562277600@www.grandangouleme.fr
SUMMARY:French touch made in Germany – IMMO/ Roullet-Saint-Estèphe
DESCRIPTION:Avec ses sandales à chaussettes\, sa choucroute et son nain de jardin\, Immo est aux commandes de ce match culturel serré entre la France et l’Allemagne. Jongleur hors pair\, aussi à l’aise avec les mots qu’avec une tronçonneuse (si\, si)\, l’artiste\, tour à tour magicien ou funambule\, vous fera rire entre deux acrobaties. Immo garde les recettes qui ont fait le succès de ses précédents spectacles : sa générosité\, son humour et son incroyable rapport au public\, associés à ses performances de jonglage\, d’acrobatie ou de mentalisme. \n  \nFrench touch made in Germany/ IMMO\nFacebook : IMMO spectacle\n \n  \n\n 
URL:https://www.grandangouleme.fr/evenement/french-touch-made-in-germany-immo-roullet-saint-estephe/
LOCATION:Roullet-Saint-Estèphe / Eglise de Saint-Estèphe\, Eglise de Saint-Estèphe\, Saint-Estèphe\, 16440\, France
CATEGORIES:Cirque,Clown,Les soirs bleus,Théâtre De Rue
ATTACH;FMTTYPE=image/jpeg:https://www.grandangouleme.fr/wp-content/uploads/2019/06/IMGP0957r-c-Ronan-Andro.jpg
END:VEVENT
BEGIN:VEVENT
DTSTART;TZID=Europe/Paris:20190622T180000
DTEND;TZID=Europe/Paris:20190622T190000
DTSTAMP:20260425T234057
CREATED:20190606T115103Z
LAST-MODIFIED:20190622T171407Z
UID:14700-1561226400-1561230000@www.grandangouleme.fr
SUMMARY:Dans Tous ses états – Mathieu Moustache / L’Isle d’Espagnac
DESCRIPTION:« Bienvenidos al gran espectaculo del Señor Moustache ! » \nLe dernier des dompteurs de public venu tout droit de son Espagne natale vous présente son grand cabaret de « circo\, musica y flamenco » ! Dans tous ses états est un spectacle visuel mêlant jonglage\, contorsion\, théâtre\, poils\, danse et musique en direct. Un spectacle burlesque déjanté et moustachu\, pour toute la famille \nMathieu Moustache\nwww.mathieumoustache.fr \n  \n  \nDans le cadre de l’inauguration des chemins de randonnée de 14h à 17h\nMairie : 05 45 38 62 00 / accueil@mairie-lisledespagnac.fr / www.lisledespagnac.fr \n  \n 
URL:https://www.grandangouleme.fr/evenement/dans-tous-ses-etats-mathieu-moustache-lisle-despagnac/
LOCATION:L’Isle d’Espagnac – Parvis de la mairie\, France
CATEGORIES:Clown,Les soirs bleus,Théâtre De Rue
ATTACH;FMTTYPE=image/jpeg:https://www.grandangouleme.fr/wp-content/uploads/2019/06/DTSE_1.jpg
END:VEVENT
END:VCALENDAR