BEGIN:VCALENDAR
VERSION:2.0
PRODID:-//GrandAngoulême - ECPv6.15.20//NONSGML v1.0//EN
CALSCALE:GREGORIAN
METHOD:PUBLISH
X-ORIGINAL-URL:https://www.grandangouleme.fr
X-WR-CALDESC:Évènements pour GrandAngoulême
REFRESH-INTERVAL;VALUE=DURATION:PT1H
X-Robots-Tag:noindex
X-PUBLISHED-TTL:PT1H
BEGIN:VTIMEZONE
TZID:Europe/Paris
BEGIN:DAYLIGHT
TZOFFSETFROM:+0100
TZOFFSETTO:+0200
TZNAME:CEST
DTSTART:20180325T010000
END:DAYLIGHT
BEGIN:STANDARD
TZOFFSETFROM:+0200
TZOFFSETTO:+0100
TZNAME:CET
DTSTART:20181028T010000
END:STANDARD
BEGIN:DAYLIGHT
TZOFFSETFROM:+0100
TZOFFSETTO:+0200
TZNAME:CEST
DTSTART:20190331T010000
END:DAYLIGHT
BEGIN:STANDARD
TZOFFSETFROM:+0200
TZOFFSETTO:+0100
TZNAME:CET
DTSTART:20191027T010000
END:STANDARD
BEGIN:DAYLIGHT
TZOFFSETFROM:+0100
TZOFFSETTO:+0200
TZNAME:CEST
DTSTART:20200329T010000
END:DAYLIGHT
BEGIN:STANDARD
TZOFFSETFROM:+0200
TZOFFSETTO:+0100
TZNAME:CET
DTSTART:20201025T010000
END:STANDARD
END:VTIMEZONE
BEGIN:VEVENT
DTSTART;TZID=Europe/Paris:20190830T203000
DTEND;TZID=Europe/Paris:20190830T230000
DTSTAMP:20260424T150505
CREATED:20190731T182817Z
LAST-MODIFIED:20190830T183226Z
UID:19668-1567197000-1567206000@www.grandangouleme.fr
SUMMARY:Perry Gordon & his rythm club / Balzac
DESCRIPTION:20h30 • Château Guez de Balzac • BALZAC \nDes dive-bars de la Nouvelle Orléans aux juke joints du Mississippi\, le vieux jazz et le blues de Perry Gordon & His Rhythm Club\, vous transporteront à une autre époque. Chanteur anglais\, Perry Gordon avec son répertoire de morceaux sélectionnés est accompagné par la crème du vieux jazz bordelais. \nhttp://www.rhythmclubmusique.com/ \n 
URL:https://www.grandangouleme.fr/evenement/perry-gordon-his-rythm-club-balzac/
LOCATION:Château Guez de Balzac de Balzac\, PL de l'église\, Balzac\, 16430\, France
CATEGORIES:Concert,Les soirs bleus,Musique
ATTACH;FMTTYPE=image/jpeg:https://www.grandangouleme.fr/wp-content/uploads/2019/07/Perry-Gordon-photo_RAS-production.jpg
ORGANIZER;CN="Balzac":MAILTO:mairie@balzac.fr
END:VEVENT
END:VCALENDAR