BEGIN:VCALENDAR
VERSION:2.0
PRODID:-//GrandAngoulême - ECPv6.15.20//NONSGML v1.0//EN
CALSCALE:GREGORIAN
METHOD:PUBLISH
X-ORIGINAL-URL:https://www.grandangouleme.fr
X-WR-CALDESC:Évènements pour GrandAngoulême
REFRESH-INTERVAL;VALUE=DURATION:PT1H
X-Robots-Tag:noindex
X-PUBLISHED-TTL:PT1H
BEGIN:VTIMEZONE
TZID:Europe/Paris
BEGIN:DAYLIGHT
TZOFFSETFROM:+0100
TZOFFSETTO:+0200
TZNAME:CEST
DTSTART:20180325T010000
END:DAYLIGHT
BEGIN:STANDARD
TZOFFSETFROM:+0200
TZOFFSETTO:+0100
TZNAME:CET
DTSTART:20181028T010000
END:STANDARD
BEGIN:DAYLIGHT
TZOFFSETFROM:+0100
TZOFFSETTO:+0200
TZNAME:CEST
DTSTART:20190331T010000
END:DAYLIGHT
BEGIN:STANDARD
TZOFFSETFROM:+0200
TZOFFSETTO:+0100
TZNAME:CET
DTSTART:20191027T010000
END:STANDARD
BEGIN:DAYLIGHT
TZOFFSETFROM:+0100
TZOFFSETTO:+0200
TZNAME:CEST
DTSTART:20200329T010000
END:DAYLIGHT
BEGIN:STANDARD
TZOFFSETFROM:+0200
TZOFFSETTO:+0100
TZNAME:CET
DTSTART:20201025T010000
END:STANDARD
END:VTIMEZONE
BEGIN:VEVENT
DTSTART;TZID=Europe/Paris:20190817T100000
DTEND;TZID=Europe/Paris:20190818T000000
DTSTAMP:20260426T040520
CREATED:20190702T153220Z
LAST-MODIFIED:20190703T094428Z
UID:18187-1566036000-1566086400@www.grandangouleme.fr
SUMMARY:Rendez-vous au bord du fleuve – Marsac
DESCRIPTION:CONTES & GUINGUETTE \n\nRendez-vous à la baignade dès 10h00.\n\nLa matinée se déroulera au fil des contes autour du fleuve jusqu’à 12h00 pour le verre de l’amitié. L’accordéon de la Compagnie «Juste Nez» retentira dès le début de l’après-midi\, puis viendra le moment d’encourager les valeureux candidats des joutes nautiques à 16h00. \nA la guinguette\, un repas sera organisé durant la soirée. \nRéservation à la Guinguette au 07 72 27 60 48
URL:https://www.grandangouleme.fr/evenement/rendez-vous-au-bord-du-fleuve-marsac/
LOCATION:Marsac / Baignade\, Route des Ponts\, Marsac\, 16570\, France
CATEGORIES:Agenda Culturel,L'actu
ATTACH;FMTTYPE=image/jpeg:https://www.grandangouleme.fr/wp-content/uploads/2019/07/DSC03047.jpg
END:VEVENT
END:VCALENDAR