BEGIN:VCALENDAR
VERSION:2.0
PRODID:-//GrandAngoulême - ECPv6.15.20//NONSGML v1.0//EN
CALSCALE:GREGORIAN
METHOD:PUBLISH
X-ORIGINAL-URL:https://www.grandangouleme.fr
X-WR-CALDESC:Évènements pour GrandAngoulême
REFRESH-INTERVAL;VALUE=DURATION:PT1H
X-Robots-Tag:noindex
X-PUBLISHED-TTL:PT1H
BEGIN:VTIMEZONE
TZID:Europe/Paris
BEGIN:DAYLIGHT
TZOFFSETFROM:+0100
TZOFFSETTO:+0200
TZNAME:CEST
DTSTART:20180325T010000
END:DAYLIGHT
BEGIN:STANDARD
TZOFFSETFROM:+0200
TZOFFSETTO:+0100
TZNAME:CET
DTSTART:20181028T010000
END:STANDARD
BEGIN:DAYLIGHT
TZOFFSETFROM:+0100
TZOFFSETTO:+0200
TZNAME:CEST
DTSTART:20190331T010000
END:DAYLIGHT
BEGIN:STANDARD
TZOFFSETFROM:+0200
TZOFFSETTO:+0100
TZNAME:CET
DTSTART:20191027T010000
END:STANDARD
BEGIN:DAYLIGHT
TZOFFSETFROM:+0100
TZOFFSETTO:+0200
TZNAME:CEST
DTSTART:20200329T010000
END:DAYLIGHT
BEGIN:STANDARD
TZOFFSETFROM:+0200
TZOFFSETTO:+0100
TZNAME:CET
DTSTART:20201025T010000
END:STANDARD
END:VTIMEZONE
BEGIN:VEVENT
DTSTART;TZID=Europe/Paris:20190818T080000
DTEND;TZID=Europe/Paris:20190818T170000
DTSTAMP:20260420T104441
CREATED:20190719T174736Z
LAST-MODIFIED:20190818T180235Z
UID:18975-1566115200-1566147600@www.grandangouleme.fr
SUMMARY:Randonnée pédestre – La Randonne
DESCRIPTION:Une randonnée pédestre est programmée et organisée par l’association couronnaise La Randonne. \nPoint de départ : Parking du Lac – MONTROLLET \nUn co-voiturage est possible : RDV Place du Champ de Foire à La Couronne\nRenseignements : M. MÉRARD 05 45 67 14 03
URL:https://www.grandangouleme.fr/evenement/randonnee-pedestre-la-randonne-2/
LOCATION:Montrollet
CATEGORIES:La Couronne
ATTACH;FMTTYPE=image/jpeg:https://www.grandangouleme.fr/wp-content/uploads/2019/05/logo-Randonne1.jpg
END:VEVENT
END:VCALENDAR