BEGIN:VCALENDAR
VERSION:2.0
PRODID:-//GrandAngoulême - ECPv6.15.20//NONSGML v1.0//EN
CALSCALE:GREGORIAN
METHOD:PUBLISH
X-ORIGINAL-URL:https://www.grandangouleme.fr
X-WR-CALDESC:Évènements pour GrandAngoulême
REFRESH-INTERVAL;VALUE=DURATION:PT1H
X-Robots-Tag:noindex
X-PUBLISHED-TTL:PT1H
BEGIN:VTIMEZONE
TZID:Europe/Paris
BEGIN:DAYLIGHT
TZOFFSETFROM:+0100
TZOFFSETTO:+0200
TZNAME:CEST
DTSTART:20180325T010000
END:DAYLIGHT
BEGIN:STANDARD
TZOFFSETFROM:+0200
TZOFFSETTO:+0100
TZNAME:CET
DTSTART:20181028T010000
END:STANDARD
BEGIN:DAYLIGHT
TZOFFSETFROM:+0100
TZOFFSETTO:+0200
TZNAME:CEST
DTSTART:20190331T010000
END:DAYLIGHT
BEGIN:STANDARD
TZOFFSETFROM:+0200
TZOFFSETTO:+0100
TZNAME:CET
DTSTART:20191027T010000
END:STANDARD
BEGIN:DAYLIGHT
TZOFFSETFROM:+0100
TZOFFSETTO:+0200
TZNAME:CEST
DTSTART:20200329T010000
END:DAYLIGHT
BEGIN:STANDARD
TZOFFSETFROM:+0200
TZOFFSETTO:+0100
TZNAME:CET
DTSTART:20201025T010000
END:STANDARD
END:VTIMEZONE
BEGIN:VEVENT
DTSTART;VALUE=DATE:20190929
DTEND;VALUE=DATE:20190930
DTSTAMP:20260425T234058
CREATED:20190830T183228Z
LAST-MODIFIED:20190929T200225Z
UID:20961-1569715200-1569801599@www.grandangouleme.fr
SUMMARY:Tout tes permis – Cie C’est pas permis / Vindelle
DESCRIPTION:A 11h et 15h30 – Salle des Fins Bois \nC’est l’histoire d’un drôle de bonhomme nous racontant ses rêves d’enfants qu’il essaye maintenant adulte de concrétiser. Il nous entraîne dans son univers et nous fait voyager\, tout au long de son parcours il aura besoin de votre aide pour se construire peu à peu : avoir la maison de ses rêves\, pouvoir se déplacer librement… tout devient plus facile en collectif. \nUn spectacle de cirque rempli d’émotions et d’humour ! \nCOMPAGNIE C’EST PAS PERMIS \ncestpaspermis.wordpress.com \n  \nDans le cadre du Marché de pays sur le thème des vignes\,\nVendange à l’ancienne à 9h\, stand de produits locaux\,\nBuvette et restauration sur place.
URL:https://www.grandangouleme.fr/evenement/tout-tes-permis-cie-cest-pas-permis-vindelle/
LOCATION:Vindelle / Salle des Fins Bois\, Rue de la Gerbaude\, Vindelle\, 16430\, France
CATEGORIES:Cirque,Les soirs bleus,Théâtre De Rue
ATTACH;FMTTYPE=image/jpeg:https://www.grandangouleme.fr/wp-content/uploads/2019/08/Tout_Tes_Permis.jpg
ORGANIZER;CN="Vindelle":MAILTO:gilbert.eymond@orange.fr
END:VEVENT
END:VCALENDAR