BEGIN:VCALENDAR
VERSION:2.0
PRODID:-//GrandAngoulême - ECPv6.15.20//NONSGML v1.0//EN
CALSCALE:GREGORIAN
METHOD:PUBLISH
X-ORIGINAL-URL:https://www.grandangouleme.fr
X-WR-CALDESC:Évènements pour GrandAngoulême
REFRESH-INTERVAL;VALUE=DURATION:PT1H
X-Robots-Tag:noindex
X-PUBLISHED-TTL:PT1H
BEGIN:VTIMEZONE
TZID:Europe/Paris
BEGIN:DAYLIGHT
TZOFFSETFROM:+0100
TZOFFSETTO:+0200
TZNAME:CEST
DTSTART:20180325T010000
END:DAYLIGHT
BEGIN:STANDARD
TZOFFSETFROM:+0200
TZOFFSETTO:+0100
TZNAME:CET
DTSTART:20181028T010000
END:STANDARD
BEGIN:DAYLIGHT
TZOFFSETFROM:+0100
TZOFFSETTO:+0200
TZNAME:CEST
DTSTART:20190331T010000
END:DAYLIGHT
BEGIN:STANDARD
TZOFFSETFROM:+0200
TZOFFSETTO:+0100
TZNAME:CET
DTSTART:20191027T010000
END:STANDARD
BEGIN:DAYLIGHT
TZOFFSETFROM:+0100
TZOFFSETTO:+0200
TZNAME:CEST
DTSTART:20200329T010000
END:DAYLIGHT
BEGIN:STANDARD
TZOFFSETFROM:+0200
TZOFFSETTO:+0100
TZNAME:CET
DTSTART:20201025T010000
END:STANDARD
END:VTIMEZONE
BEGIN:VEVENT
DTSTART;TZID=Europe/Paris:20190621T180000
DTEND;TZID=Europe/Paris:20190622T030000
DTSTAMP:20260426T010808
CREATED:20190606T145001Z
LAST-MODIFIED:20190621T235903Z
UID:14788-1561140000-1561172400@www.grandangouleme.fr
SUMMARY:Fête de la Musique à Angoulême
DESCRIPTION:Comme chaque année\, les musiciens et mélomanes ont rendez-vous le 21 juin pour cette nouvelle édition de la fête de la musique. \nProgramme / perturbations de circulation et de stationnement : feteMusique2019.pdf
URL:https://www.grandangouleme.fr/evenement/fete-de-la-musique-a-angouleme/
LOCATION:Angoulême\, Angoulême\, 16000
CATEGORIES:Angoulême,GrandAngoulême,Musique
ATTACH;FMTTYPE=image/jpeg:https://www.grandangouleme.fr/wp-content/uploads/2017/05/ANGOUL-3.jpg
END:VEVENT
END:VCALENDAR