BEGIN:VCALENDAR
VERSION:2.0
PRODID:-//GrandAngoulême - ECPv6.15.20//NONSGML v1.0//EN
CALSCALE:GREGORIAN
METHOD:PUBLISH
X-ORIGINAL-URL:https://www.grandangouleme.fr
X-WR-CALDESC:Évènements pour GrandAngoulême
REFRESH-INTERVAL;VALUE=DURATION:PT1H
X-Robots-Tag:noindex
X-PUBLISHED-TTL:PT1H
BEGIN:VTIMEZONE
TZID:Europe/Paris
BEGIN:DAYLIGHT
TZOFFSETFROM:+0100
TZOFFSETTO:+0200
TZNAME:CEST
DTSTART:20210328T010000
END:DAYLIGHT
BEGIN:STANDARD
TZOFFSETFROM:+0200
TZOFFSETTO:+0100
TZNAME:CET
DTSTART:20211031T010000
END:STANDARD
BEGIN:DAYLIGHT
TZOFFSETFROM:+0100
TZOFFSETTO:+0200
TZNAME:CEST
DTSTART:20220327T010000
END:DAYLIGHT
BEGIN:STANDARD
TZOFFSETFROM:+0200
TZOFFSETTO:+0100
TZNAME:CET
DTSTART:20221030T010000
END:STANDARD
BEGIN:DAYLIGHT
TZOFFSETFROM:+0100
TZOFFSETTO:+0200
TZNAME:CEST
DTSTART:20230326T010000
END:DAYLIGHT
BEGIN:STANDARD
TZOFFSETFROM:+0200
TZOFFSETTO:+0100
TZNAME:CET
DTSTART:20231029T010000
END:STANDARD
END:VTIMEZONE
BEGIN:VEVENT
DTSTART;VALUE=DATE:20220417
DTEND;VALUE=DATE:20220418
DTSTAMP:20260420T164350
CREATED:20220407T141733Z
LAST-MODIFIED:20220407T141733Z
UID:38320-1650153600-1650239999@www.grandangouleme.fr
SUMMARY:Marché de pays
DESCRIPTION:Marché de pays sur le thème « Le pain et ses accompagnements »\nDe nombreux producteurs et artisans locaux seront présents.\nRestauration possible sur place\nAteliers pour les enfants (maquillage\, chasse aux œufs…)\nSpectacle de rue GRATUIT à 11h et 16h
URL:https://www.grandangouleme.fr/evenement/marche-de-pays/
LOCATION:Jauldes
CATEGORIES:Agenda Culturel,Agenda Festif,Arts De Rue
ATTACH;FMTTYPE=image/jpeg:https://www.grandangouleme.fr/wp-content/uploads/2017/05/ANGOUL-3.jpg
ORGANIZER;CN="Mairie de Jauldes":MAILTO:mairie@jauldes.fr
END:VEVENT
END:VCALENDAR